BEGIN:VCALENDAR
VERSION:2.0
PRODID:-// - ECPv6.15.20//NONSGML v1.0//EN
CALSCALE:GREGORIAN
METHOD:PUBLISH
X-ORIGINAL-URL:https://tbwonline.net
X-WR-CALDESC:Events for 
REFRESH-INTERVAL;VALUE=DURATION:PT1H
X-Robots-Tag:noindex
X-PUBLISHED-TTL:PT1H
BEGIN:VTIMEZONE
TZID:America/Los_Angeles
BEGIN:DAYLIGHT
TZOFFSETFROM:-0800
TZOFFSETTO:-0700
TZNAME:PDT
DTSTART:20230312T100000
END:DAYLIGHT
BEGIN:STANDARD
TZOFFSETFROM:-0700
TZOFFSETTO:-0800
TZNAME:PST
DTSTART:20231105T090000
END:STANDARD
BEGIN:DAYLIGHT
TZOFFSETFROM:-0800
TZOFFSETTO:-0700
TZNAME:PDT
DTSTART:20240310T100000
END:DAYLIGHT
BEGIN:STANDARD
TZOFFSETFROM:-0700
TZOFFSETTO:-0800
TZNAME:PST
DTSTART:20241103T090000
END:STANDARD
BEGIN:DAYLIGHT
TZOFFSETFROM:-0800
TZOFFSETTO:-0700
TZNAME:PDT
DTSTART:20250309T100000
END:DAYLIGHT
BEGIN:STANDARD
TZOFFSETFROM:-0700
TZOFFSETTO:-0800
TZNAME:PST
DTSTART:20251102T090000
END:STANDARD
END:VTIMEZONE
BEGIN:VEVENT
DTSTART;VALUE=DATE:20240426
DTEND;VALUE=DATE:20240429
DTSTAMP:20260419T201710
CREATED:20240201T044721Z
LAST-MODIFIED:20240203T025548Z
UID:5697-1714089600-1714348799@tbwonline.net
SUMMARY:Moses Lake Rock Shoot
DESCRIPTION:30th Anniversary \nSun Basin Rock Shoot \nApril 26-28th \n  \nRegister before you shoot  \nAll attendees must sign insurance waiver to be on site\, shooting or not!    \n  \nCourses open from 6am-dusk! \nDaily events will be posted at registration \nRaffle Saturday Evening \nRaffle donations are appreciated. Please bring to registration before noon on Saturday \nVendors are encouraged \nTraditional equipment only\, no broad heads\, field points only \nCourses will be pulled 10:30am sharp. Help is always appreciated! \n  \nCheck out the flyer for more details Rock-Shoot-flyer.pdf \n 
URL:https://tbwonline.net/event/moses-lake-rock-shoot/
LOCATION:TBW Property\, Moses Lake\, WA\, United States
ORGANIZER;CN="Rick Liebel":MAILTO:rliebel@comcast.net
END:VEVENT
END:VCALENDAR