BEGIN:VCALENDAR
VERSION:2.0
PRODID:-// - ECPv6.15.20//NONSGML v1.0//EN
CALSCALE:GREGORIAN
METHOD:PUBLISH
X-ORIGINAL-URL:https://tbwonline.net
X-WR-CALDESC:Events for 
REFRESH-INTERVAL;VALUE=DURATION:PT1H
X-Robots-Tag:noindex
X-PUBLISHED-TTL:PT1H
BEGIN:VTIMEZONE
TZID:America/Los_Angeles
BEGIN:DAYLIGHT
TZOFFSETFROM:-0800
TZOFFSETTO:-0700
TZNAME:PDT
DTSTART:20220313T100000
END:DAYLIGHT
BEGIN:STANDARD
TZOFFSETFROM:-0700
TZOFFSETTO:-0800
TZNAME:PST
DTSTART:20221106T090000
END:STANDARD
BEGIN:DAYLIGHT
TZOFFSETFROM:-0800
TZOFFSETTO:-0700
TZNAME:PDT
DTSTART:20230312T100000
END:DAYLIGHT
BEGIN:STANDARD
TZOFFSETFROM:-0700
TZOFFSETTO:-0800
TZNAME:PST
DTSTART:20231105T090000
END:STANDARD
BEGIN:DAYLIGHT
TZOFFSETFROM:-0800
TZOFFSETTO:-0700
TZNAME:PDT
DTSTART:20240310T100000
END:DAYLIGHT
BEGIN:STANDARD
TZOFFSETFROM:-0700
TZOFFSETTO:-0800
TZNAME:PST
DTSTART:20241103T090000
END:STANDARD
END:VTIMEZONE
BEGIN:VEVENT
DTSTART;VALUE=DATE:20230428
DTEND;VALUE=DATE:20230501
DTSTAMP:20260422T173353
CREATED:20220111T221818Z
LAST-MODIFIED:20230226T050112Z
UID:4404-1682640000-1682899199@tbwonline.net
SUMMARY:2023 Sun Basin Rock Shoot
DESCRIPTION: Sun Basin Rock Shoot \n       At Moses Lake \nA Traditional Bowhunters of Washington 3-D shoot \nApril 28\, 29\, & 30th 2023 \nRegister before you shoot  \n            All attendees must sign insurance waiver to be on site.     \nRaffle Saturday Evening      \nRead white board at registration for up to date information on daily event information. \nVendors Welcome to attend\, display and sell!\n \nTraditional equipment only\, no broad heads\, field pts only \n  \n$5.00 per motor vehicle on the “other side of the fence” \nRegistration fees   1 day  adults -$20   youths  9-17 yr. -$10    Family max-$40 \n                              2 day  adults -$30   youths  9-17yr. – $15    Family max-$60 \n  \ncourses closed and targets pulled 10:30am Sunday \nPrimitive camping\, no water\, pack out your trash. \nQuiet time 10pm to 7am \nCurrent COVID protocols observed. \n  \nQuestions and Information                                                                                                                                                                                                          Sponsored by:   \nRick Liebel 206 920 0550                                                                                                                                                                                                Traditional Bowhunter Magazine \nrliebel@comcast.net \nMike Prior 509 765 2130                                                                                                  \n 
URL:https://tbwonline.net/event/2022-sun-basin-rock-shoot/
LOCATION:TBW Property\, Moses Lake\, WA\, United States
ORGANIZER;CN="Rick Liebel":MAILTO:rliebel@comcast.net
END:VEVENT
END:VCALENDAR